Package: HEM Version: 1.78.0 Command: rm -rf HEM.buildbin-libdir && mkdir HEM.buildbin-libdir && F:\biocbuild\bbs-3.20-bioc\R\bin\R.exe CMD INSTALL --build --library=HEM.buildbin-libdir HEM_1.78.0.tar.gz StartedAt: 2025-02-04 08:41:19 -0500 (Tue, 04 Feb 2025) EndedAt: 2025-02-04 08:41:37 -0500 (Tue, 04 Feb 2025) EllapsedTime: 18.4 seconds RetCode: 0 Status: OK PackageFile: HEM_1.78.0.zip PackageFileSize: 640.4 KiB