Package: HEM Version: 1.78.0 Command: /home/biocbuild/R/R/bin/R CMD build --keep-empty-dirs --no-resave-data HEM StartedAt: 2025-02-04 00:14:36 -0000 (Tue, 04 Feb 2025) EndedAt: 2025-02-04 00:14:48 -0000 (Tue, 04 Feb 2025) EllapsedTime: 12.0 seconds RetCode: 0 Status: OK PackageFile: HEM_1.78.0.tar.gz PackageFileSize: 602.6 KiB