Package: HEM Version: 1.78.0 Command: /home/biocbuild/R/R/bin/R CMD INSTALL HEM StartedAt: 2025-02-10 20:09:19 -0000 (Mon, 10 Feb 2025) EndedAt: 2025-02-10 20:09:31 -0000 (Mon, 10 Feb 2025) EllapsedTime: 12.2 seconds RetCode: 0 Status: OK