Package: HERON Version: 1.4.0 Command: rm -rf HERON.buildbin-libdir && mkdir HERON.buildbin-libdir && /Users/biocbuild/BBS/utils/build-universal.sh HERON_1.4.0.tar.gz /Library/Frameworks/R.framework/Resources/bin/R HERON.buildbin-libdir StartedAt: 2025-02-01 15:15:53 -0500 (Sat, 01 Feb 2025) EndedAt: 2025-02-01 15:16:20 -0500 (Sat, 01 Feb 2025) EllapsedTime: 26.9 seconds RetCode: 0 Status: OK PackageFile: HERON_1.4.0.tgz PackageFileSize: 1.076 MiB