Package: HERON Version: 1.4.0 Command: /Library/Frameworks/R.framework/Resources/bin/R CMD build --keep-empty-dirs --no-resave-data HERON StartedAt: 2025-01-30 19:47:16 -0500 (Thu, 30 Jan 2025) EndedAt: 2025-01-30 19:50:35 -0500 (Thu, 30 Jan 2025) EllapsedTime: 199.8 seconds RetCode: 0 Status: OK PackageFile: HERON_1.4.0.tar.gz PackageFileSize: 964.4 KiB