Package: HERON Version: 1.4.0 Command: /Library/Frameworks/R.framework/Resources/bin/R CMD INSTALL HERON StartedAt: 2025-01-30 16:23:30 -0500 (Thu, 30 Jan 2025) EndedAt: 2025-01-30 16:24:16 -0500 (Thu, 30 Jan 2025) EllapsedTime: 45.8 seconds RetCode: 0 Status: OK