Package: HERON Version: 1.4.0 Command: /home/biocbuild/bbs-3.20-bioc/R/bin/R CMD INSTALL HERON StartedAt: 2025-02-03 15:55:28 -0500 (Mon, 03 Feb 2025) EndedAt: 2025-02-03 15:55:52 -0500 (Mon, 03 Feb 2025) EllapsedTime: 24.7 seconds RetCode: 0 Status: OK