Package: HERON Version: 1.4.0 Command: chmod a+r HERON -R && F:\biocbuild\bbs-3.20-bioc\R\bin\R.exe CMD build --keep-empty-dirs --no-resave-data HERON StartedAt: 2025-02-03 19:42:52 -0500 (Mon, 03 Feb 2025) EndedAt: 2025-02-03 19:44:30 -0500 (Mon, 03 Feb 2025) EllapsedTime: 97.9 seconds RetCode: 0 Status: OK PackageFile: HERON_1.4.0.tar.gz PackageFileSize: 964.8 KiB