Package: HERON Version: 1.4.0 Command: /home/biocbuild/R/R/bin/R CMD build --keep-empty-dirs --no-resave-data HERON StartedAt: 2025-01-31 00:15:33 -0000 (Fri, 31 Jan 2025) EndedAt: 2025-01-31 00:15:34 -0000 (Fri, 31 Jan 2025) EllapsedTime: 1.0 seconds RetCode: 1 Status: ERROR PackageFile: None PackageFileSize: NA