Package: HERON Version: 1.4.0 Command: /home/biocbuild/R/R/bin/R CMD INSTALL HERON StartedAt: 2025-01-30 20:54:51 -0000 (Thu, 30 Jan 2025) EndedAt: 2025-01-30 20:54:52 -0000 (Thu, 30 Jan 2025) EllapsedTime: 1.0 seconds RetCode: 1 Status: ERROR