Package: HIPPO Version: 1.18.0 Command: /Library/Frameworks/R.framework/Resources/bin/R CMD build --keep-empty-dirs --no-resave-data HIPPO StartedAt: 2025-01-31 01:29:59 -0500 (Fri, 31 Jan 2025) EndedAt: 2025-01-31 01:30:48 -0500 (Fri, 31 Jan 2025) EllapsedTime: 48.9 seconds RetCode: 0 Status: OK PackageFile: HIPPO_1.18.0.tar.gz PackageFileSize: 646.5 KiB