Package: HIPPO Version: 1.18.0 Command: /Library/Frameworks/R.framework/Resources/bin/R CMD check --install=check:HIPPO.install-out.txt --library=/Library/Frameworks/R.framework/Resources/library --no-vignettes --timings HIPPO_1.18.0.tar.gz StartedAt: 2025-01-31 22:00:54 -0500 (Fri, 31 Jan 2025) EndedAt: 2025-01-31 22:04:22 -0500 (Fri, 31 Jan 2025) EllapsedTime: 208.2 seconds RetCode: 0 Status: OK CheckDir: HIPPO.Rcheck Warnings: 0