Package: HIPPO Version: 1.18.0 Command: /Library/Frameworks/R.framework/Resources/bin/R CMD build --keep-empty-dirs --no-resave-data HIPPO StartedAt: 2025-01-30 19:51:56 -0500 (Thu, 30 Jan 2025) EndedAt: 2025-01-30 19:53:53 -0500 (Thu, 30 Jan 2025) EllapsedTime: 116.2 seconds RetCode: 0 Status: OK PackageFile: HIPPO_1.18.0.tar.gz PackageFileSize: 649.1 KiB