Package: HIPPO Version: 1.18.0 Command: /home/biocbuild/bbs-3.20-bioc/R/bin/R CMD INSTALL HIPPO StartedAt: 2025-01-30 15:14:40 -0500 (Thu, 30 Jan 2025) EndedAt: 2025-01-30 15:15:05 -0500 (Thu, 30 Jan 2025) EllapsedTime: 24.4 seconds RetCode: 0 Status: OK