Package: HIPPO Version: 1.18.0 Command: /home/biocbuild/R/R/bin/R CMD INSTALL HIPPO StartedAt: 2025-01-30 20:18:27 -0000 (Thu, 30 Jan 2025) EndedAt: 2025-01-30 20:18:58 -0000 (Thu, 30 Jan 2025) EllapsedTime: 30.4 seconds RetCode: 0 Status: OK