Package: HIREewas Version: 1.24.0 Command: /Library/Frameworks/R.framework/Resources/bin/R CMD INSTALL HIREewas StartedAt: 2025-02-10 15:11:04 -0500 (Mon, 10 Feb 2025) EndedAt: 2025-02-10 15:11:14 -0500 (Mon, 10 Feb 2025) EllapsedTime: 10.2 seconds RetCode: 0 Status: OK