Package: HIREewas Version: 1.24.0 Command: F:\biocbuild\bbs-3.20-bioc\R\bin\R.exe CMD check --no-multiarch --install=check:HIREewas.install-out.txt --library=F:\biocbuild\bbs-3.20-bioc\R\library --no-vignettes --timings HIREewas_1.24.0.tar.gz StartedAt: 2025-02-04 02:44:52 -0500 (Tue, 04 Feb 2025) EndedAt: 2025-02-04 02:46:32 -0500 (Tue, 04 Feb 2025) EllapsedTime: 100.9 seconds RetCode: 0 Status: OK CheckDir: HIREewas.Rcheck Warnings: 0