Package: HIREewas Version: 1.24.0 Command: F:\biocbuild\bbs-3.20-bioc\R\bin\R.exe CMD INSTALL HIREewas StartedAt: 2025-02-10 15:29:18 -0500 (Mon, 10 Feb 2025) EndedAt: 2025-02-10 15:29:26 -0500 (Mon, 10 Feb 2025) EllapsedTime: 7.9 seconds RetCode: 0 Status: OK