Package: HIREewas Version: 1.24.0 Command: /home/biocbuild/R/R/bin/R CMD build --keep-empty-dirs --no-resave-data HIREewas StartedAt: 2025-02-04 00:18:02 -0000 (Tue, 04 Feb 2025) EndedAt: 2025-02-04 00:19:14 -0000 (Tue, 04 Feb 2025) EllapsedTime: 72.0 seconds RetCode: 0 Status: OK PackageFile: HIREewas_1.24.0.tar.gz PackageFileSize: 257.5 KiB