Package: HPAanalyze Version: 1.24.0 Command: /Library/Frameworks/R.framework/Resources/bin/R CMD check --install=check:HPAanalyze.install-out.txt --library=/Library/Frameworks/R.framework/Resources/library --no-vignettes --timings HPAanalyze_1.24.0.tar.gz StartedAt: 2025-02-11 22:17:16 -0500 (Tue, 11 Feb 2025) EndedAt: 2025-02-11 22:18:58 -0500 (Tue, 11 Feb 2025) EllapsedTime: 102.5 seconds RetCode: 0 Status: OK CheckDir: HPAanalyze.Rcheck Warnings: 0