Package: HPAanalyze Version: 1.24.0 Command: rm -rf HPAanalyze.buildbin-libdir && mkdir HPAanalyze.buildbin-libdir && /Users/biocbuild/BBS/utils/build-universal.sh HPAanalyze_1.24.0.tar.gz /Library/Frameworks/R.framework/Resources/bin/R HPAanalyze.buildbin-libdir StartedAt: 2025-02-04 13:09:39 -0500 (Tue, 04 Feb 2025) EndedAt: 2025-02-04 13:11:00 -0500 (Tue, 04 Feb 2025) EllapsedTime: 81.7 seconds RetCode: 0 Status: OK PackageFile: HPAanalyze_1.24.0.tgz PackageFileSize: 7.027 MiB