Package: HPAanalyze Version: 1.24.0 Command: /Library/Frameworks/R.framework/Resources/bin/R CMD build --keep-empty-dirs --no-resave-data HPAanalyze StartedAt: 2025-02-10 19:36:47 -0500 (Mon, 10 Feb 2025) EndedAt: 2025-02-10 19:38:47 -0500 (Mon, 10 Feb 2025) EllapsedTime: 119.9 seconds RetCode: 0 Status: OK PackageFile: HPAanalyze_1.24.0.tar.gz PackageFileSize: 6.918 MiB