Package: HPAanalyze Version: 1.24.0 Command: /home/biocbuild/bbs-3.20-bioc/R/bin/R CMD check --install=check:HPAanalyze.install-out.txt --library=/home/biocbuild/bbs-3.20-bioc/R/site-library --timings HPAanalyze_1.24.0.tar.gz StartedAt: 2025-02-03 23:14:22 -0500 (Mon, 03 Feb 2025) EndedAt: 2025-02-03 23:15:57 -0500 (Mon, 03 Feb 2025) EllapsedTime: 95.1 seconds RetCode: 0 Status: OK CheckDir: HPAanalyze.Rcheck Warnings: 0