Package: HPAanalyze Version: 1.24.0 Command: /home/biocbuild/R/R/bin/R CMD build --keep-empty-dirs --no-resave-data HPAanalyze StartedAt: 2025-01-31 00:19:49 -0000 (Fri, 31 Jan 2025) EndedAt: 2025-01-31 00:20:39 -0000 (Fri, 31 Jan 2025) EllapsedTime: 50.0 seconds RetCode: 0 Status: OK PackageFile: HPAanalyze_1.24.0.tar.gz PackageFileSize: 6.852 MiB