Package: HPAanalyze Version: 1.24.0 Command: /home/biocbuild/R/R/bin/R CMD check --install=check:HPAanalyze.install-out.txt --library=/home/biocbuild/R/R/site-library --no-vignettes --timings HPAanalyze_1.24.0.tar.gz StartedAt: 2025-02-04 07:54:04 -0000 (Tue, 04 Feb 2025) EndedAt: 2025-02-04 07:55:16 -0000 (Tue, 04 Feb 2025) EllapsedTime: 72.0 seconds RetCode: 0 Status: OK CheckDir: HPAanalyze.Rcheck Warnings: 0