Package: HPiP Version: 1.12.0 Maintainer: Matineh Rahmatbakhsh MaintainerEmail: matinerb.94 at gmail.com git_url: https://git.bioconductor.org/packages/HPiP git_branch: RELEASE_3_20 git_last_commit: ce9e305 git_last_commit_date: 2024-10-29 11:04:11 -0500 (Tue, 29 Oct 2024)