Package: HPiP Version: 1.12.0 Command: /Library/Frameworks/R.framework/Resources/bin/R CMD build --keep-empty-dirs --no-resave-data HPiP StartedAt: 2025-02-04 01:34:11 -0500 (Tue, 04 Feb 2025) EndedAt: 2025-02-04 01:51:33 -0500 (Tue, 04 Feb 2025) EllapsedTime: 1041.3 seconds RetCode: 0 Status: OK PackageFile: HPiP_1.12.0.tar.gz PackageFileSize: 4.567 MiB