Package: HTSeqGenie Version: 4.36.0 Command: /home/biocbuild/R/R/bin/R CMD check --install=check:HTSeqGenie.install-out.txt --library=/home/biocbuild/R/R/site-library --no-vignettes --timings HTSeqGenie_4.36.0.tar.gz StartedAt: 2025-02-04 07:55:08 -0000 (Tue, 04 Feb 2025) EndedAt: 2025-02-04 08:35:08 -0000 (Tue, 04 Feb 2025) EllapsedTime: 2400.1 seconds RetCode: None Status: TIMEOUT CheckDir: HTSeqGenie.Rcheck Warnings: NA