Package: HTqPCR Version: 1.60.0 Command: /Library/Frameworks/R.framework/Resources/bin/R CMD build --keep-empty-dirs --no-resave-data HTqPCR StartedAt: 2025-02-04 01:34:24 -0500 (Tue, 04 Feb 2025) EndedAt: 2025-02-04 01:34:40 -0500 (Tue, 04 Feb 2025) EllapsedTime: 16.0 seconds RetCode: 1 Status: ERROR PackageFile: None PackageFileSize: NA