Package: HTqPCR Version: 1.60.0 Command: /Library/Frameworks/R.framework/Resources/bin/R CMD build --keep-empty-dirs --no-resave-data HTqPCR StartedAt: 2025-02-03 19:39:38 -0500 (Mon, 03 Feb 2025) EndedAt: 2025-02-03 19:40:07 -0500 (Mon, 03 Feb 2025) EllapsedTime: 29.1 seconds RetCode: 1 Status: ERROR PackageFile: None PackageFileSize: NA