Package: HTqPCR Version: 1.60.0 Command: /home/biocbuild/bbs-3.20-bioc/R/bin/R CMD INSTALL HTqPCR StartedAt: 2025-02-03 15:16:43 -0500 (Mon, 03 Feb 2025) EndedAt: 2025-02-03 15:16:50 -0500 (Mon, 03 Feb 2025) EllapsedTime: 7.1 seconds RetCode: 0 Status: OK