Package: HTqPCR Version: 1.60.0 Command: chmod a+r HTqPCR -R && F:\biocbuild\bbs-3.20-bioc\R\bin\R.exe CMD build --keep-empty-dirs --no-resave-data HTqPCR StartedAt: 2025-02-03 19:46:49 -0500 (Mon, 03 Feb 2025) EndedAt: 2025-02-03 19:47:13 -0500 (Mon, 03 Feb 2025) EllapsedTime: 24.3 seconds RetCode: 1 Status: ERROR PackageFile: None PackageFileSize: NA