Package: HTqPCR Version: 1.60.0 Command: /home/biocbuild/R/R/bin/R CMD build --keep-empty-dirs --no-resave-data HTqPCR StartedAt: 2025-01-31 00:19:59 -0000 (Fri, 31 Jan 2025) EndedAt: 2025-01-31 00:20:15 -0000 (Fri, 31 Jan 2025) EllapsedTime: 16.0 seconds RetCode: 1 Status: ERROR PackageFile: None PackageFileSize: NA