Package: Harman Version: 1.34.0 Command: /Library/Frameworks/R.framework/Resources/bin/R CMD build --keep-empty-dirs --no-resave-data Harman StartedAt: 2025-02-11 01:21:58 -0500 (Tue, 11 Feb 2025) EndedAt: 2025-02-11 01:25:00 -0500 (Tue, 11 Feb 2025) EllapsedTime: 182.0 seconds RetCode: 0 Status: OK PackageFile: Harman_1.34.0.tar.gz PackageFileSize: 2.123 MiB