Package: Harman Version: 1.34.0 Command: /Library/Frameworks/R.framework/Resources/bin/R CMD check --install=check:Harman.install-out.txt --library=/Library/Frameworks/R.framework/Resources/library --no-vignettes --timings Harman_1.34.0.tar.gz StartedAt: 2025-02-04 22:12:29 -0500 (Tue, 04 Feb 2025) EndedAt: 2025-02-04 22:13:42 -0500 (Tue, 04 Feb 2025) EllapsedTime: 72.4 seconds RetCode: 0 Status: OK CheckDir: Harman.Rcheck Warnings: 0