Package: Harman Version: 1.34.0 Command: /Library/Frameworks/R.framework/Resources/bin/R CMD build --keep-empty-dirs --no-resave-data Harman StartedAt: 2025-02-10 19:28:15 -0500 (Mon, 10 Feb 2025) EndedAt: 2025-02-10 19:33:41 -0500 (Mon, 10 Feb 2025) EllapsedTime: 325.3 seconds RetCode: 0 Status: OK PackageFile: Harman_1.34.0.tar.gz PackageFileSize: 2.119 MiB