Package: Harman Version: 1.34.0 Command: rm -rf Harman.buildbin-libdir && mkdir Harman.buildbin-libdir && F:\biocbuild\bbs-3.20-bioc\R\bin\R.exe CMD INSTALL --build --library=Harman.buildbin-libdir Harman_1.34.0.tar.gz StartedAt: 2025-02-04 08:40:38 -0500 (Tue, 04 Feb 2025) EndedAt: 2025-02-04 08:41:00 -0500 (Tue, 04 Feb 2025) EllapsedTime: 21.8 seconds RetCode: 0 Status: OK PackageFile: Harman_1.34.0.zip PackageFileSize: 1.18 MiB