Package: Harman Version: 1.34.0 Command: /home/biocbuild/R/R/bin/R CMD build --keep-empty-dirs --no-resave-data Harman StartedAt: 2025-02-04 00:12:57 -0000 (Tue, 04 Feb 2025) EndedAt: 2025-02-04 00:16:04 -0000 (Tue, 04 Feb 2025) EllapsedTime: 187.2 seconds RetCode: 0 Status: OK PackageFile: Harman_1.34.0.tar.gz PackageFileSize: 1.133 MiB