Package: Harman Version: 1.34.0 Command: /home/biocbuild/R/R/bin/R CMD INSTALL Harman StartedAt: 2025-02-03 20:26:04 -0000 (Mon, 03 Feb 2025) EndedAt: 2025-02-03 20:26:43 -0000 (Mon, 03 Feb 2025) EllapsedTime: 38.3 seconds RetCode: 0 Status: OK