Package: HarmonizR Version: 1.4.0 Command: chmod a+r HarmonizR -R && F:\biocbuild\bbs-3.20-bioc\R\bin\R.exe CMD build --keep-empty-dirs --no-resave-data HarmonizR StartedAt: 2025-02-03 19:41:31 -0500 (Mon, 03 Feb 2025) EndedAt: 2025-02-03 19:41:59 -0500 (Mon, 03 Feb 2025) EllapsedTime: 28.1 seconds RetCode: 0 Status: OK PackageFile: HarmonizR_1.4.0.tar.gz PackageFileSize: 49.82 KiB