Package: HarmonizR Version: 1.4.0 Command: F:\biocbuild\bbs-3.20-bioc\R\bin\R.exe CMD INSTALL HarmonizR StartedAt: 2025-02-10 16:53:06 -0500 (Mon, 10 Feb 2025) EndedAt: 2025-02-10 16:53:16 -0500 (Mon, 10 Feb 2025) EllapsedTime: 10.3 seconds RetCode: 0 Status: OK