Package: HarmonizR Version: 1.4.0 Command: /home/biocbuild/R/R/bin/R CMD build --keep-empty-dirs --no-resave-data HarmonizR StartedAt: 2025-02-11 00:04:50 -0000 (Tue, 11 Feb 2025) EndedAt: 2025-02-11 00:05:08 -0000 (Tue, 11 Feb 2025) EllapsedTime: 18.0 seconds RetCode: 0 Status: OK PackageFile: HarmonizR_1.4.0.tar.gz PackageFileSize: 51.28 KiB