Package: HarmonizR Version: 1.4.0 Command: /home/biocbuild/R/R/bin/R CMD INSTALL HarmonizR StartedAt: 2025-02-10 21:00:05 -0000 (Mon, 10 Feb 2025) EndedAt: 2025-02-10 21:00:08 -0000 (Mon, 10 Feb 2025) EllapsedTime: 3.2 seconds RetCode: 0 Status: OK