Package: HelloRanges Version: 1.32.0 Command: rm -rf HelloRanges.buildbin-libdir && mkdir HelloRanges.buildbin-libdir && /Users/biocbuild/BBS/utils/build-universal.sh HelloRanges_1.32.0.tar.gz /Library/Frameworks/R.framework/Resources/bin/R HelloRanges.buildbin-libdir StartedAt: 2025-02-01 15:15:35 -0500 (Sat, 01 Feb 2025) EndedAt: 2025-02-01 15:16:28 -0500 (Sat, 01 Feb 2025) EllapsedTime: 52.8 seconds RetCode: 0 Status: OK PackageFile: HelloRanges_1.32.0.tgz PackageFileSize: 943.2 KiB