Package: HelloRanges Version: 1.32.0 Command: rm -rf HelloRanges.buildbin-libdir && mkdir HelloRanges.buildbin-libdir && /Users/biocbuild/BBS/utils/build-universal.sh HelloRanges_1.32.0.tar.gz /Library/Frameworks/R.framework/Resources/bin/R HelloRanges.buildbin-libdir StartedAt: 2025-02-04 13:07:59 -0500 (Tue, 04 Feb 2025) EndedAt: 2025-02-04 13:09:39 -0500 (Tue, 04 Feb 2025) EllapsedTime: 99.8 seconds RetCode: 0 Status: OK PackageFile: HelloRanges_1.32.0.tgz PackageFileSize: 944.5 KiB