Package: HelloRanges Version: 1.32.0 Command: /home/biocbuild/bbs-3.20-bioc/R/bin/R CMD INSTALL HelloRanges StartedAt: 2025-01-30 15:23:57 -0500 (Thu, 30 Jan 2025) EndedAt: 2025-01-30 15:24:40 -0500 (Thu, 30 Jan 2025) EllapsedTime: 43.1 seconds RetCode: 0 Status: OK