Package: HelloRanges Version: 1.32.0 Command: rm -rf HelloRanges.buildbin-libdir && mkdir HelloRanges.buildbin-libdir && F:\biocbuild\bbs-3.20-bioc\R\bin\R.exe CMD INSTALL --build --library=HelloRanges.buildbin-libdir HelloRanges_1.32.0.tar.gz StartedAt: 2025-02-04 08:41:05 -0500 (Tue, 04 Feb 2025) EndedAt: 2025-02-04 08:42:51 -0500 (Tue, 04 Feb 2025) EllapsedTime: 106.4 seconds RetCode: 0 Status: OK PackageFile: HelloRanges_1.32.0.zip PackageFileSize: 978.3 KiB