Package: HelloRanges Version: 1.32.0 Command: chmod a+r HelloRanges -R && F:\biocbuild\bbs-3.20-bioc\R\bin\R.exe CMD build --keep-empty-dirs --no-resave-data HelloRanges StartedAt: 2025-02-03 19:42:22 -0500 (Mon, 03 Feb 2025) EndedAt: 2025-02-03 20:03:11 -0500 (Mon, 03 Feb 2025) EllapsedTime: 1248.8 seconds RetCode: 0 Status: OK PackageFile: HelloRanges_1.32.0.tar.gz PackageFileSize: 953 KiB