Package: HelloRanges Version: 1.32.0 Command: /home/biocbuild/R/R/bin/R CMD build --keep-empty-dirs --no-resave-data HelloRanges StartedAt: 2025-01-31 00:15:14 -0000 (Fri, 31 Jan 2025) EndedAt: 2025-01-31 00:19:36 -0000 (Fri, 31 Jan 2025) EllapsedTime: 261.2 seconds RetCode: 0 Status: OK PackageFile: HelloRanges_1.32.0.tar.gz PackageFileSize: 942.9 KiB