Package: HelloRanges Version: 1.32.0 Command: /home/biocbuild/R/R/bin/R CMD check --install=check:HelloRanges.install-out.txt --library=/home/biocbuild/R/R/site-library --no-vignettes --timings HelloRanges_1.32.0.tar.gz StartedAt: 2025-01-31 07:04:09 -0000 (Fri, 31 Jan 2025) EndedAt: 2025-01-31 07:09:50 -0000 (Fri, 31 Jan 2025) EllapsedTime: 341.2 seconds RetCode: 0 Status: OK CheckDir: HelloRanges.Rcheck Warnings: 0